Package: tidyCoverage Version: 1.7.0 Command: /home/biocbuild/bbs-3.23-bioc/R/bin/R CMD check --install=check:tidyCoverage.install-out.txt --library=/home/biocbuild/bbs-3.23-bioc/R/site-library --timings tidyCoverage_1.7.0.tar.gz StartedAt: 2025-11-10 04:37:35 -0500 (Mon, 10 Nov 2025) EndedAt: 2025-11-10 04:45:31 -0500 (Mon, 10 Nov 2025) EllapsedTime: 475.6 seconds RetCode: 0 Status: OK CheckDir: tidyCoverage.Rcheck Warnings: 0