Package: systemPipeTools Version: 1.19.0 Maintainer: Daniela Cassol MaintainerEmail: danicassol at gmail.com git_url: https://git.bioconductor.org/packages/systemPipeTools git_branch: devel git_last_commit: 5e1379b git_last_commit_date: 2025-10-29 11:10:03 -0500 (Wed, 29 Oct 2025)