Package: systemPipeShiny Version: 1.21.0 Maintainer: Le Zhang MaintainerEmail: le.zhang001 at email.ucr.edu git_url: https://git.bioconductor.org/packages/systemPipeShiny git_branch: devel git_last_commit: 7829fef git_last_commit_date: 2025-10-29 11:02:48 -0500 (Wed, 29 Oct 2025)