Package: systemPipeR Version: 2.17.0 Command: /home/biocbuild/bbs-3.23-bioc/R/bin/R CMD build --keep-empty-dirs --no-resave-data systemPipeR StartedAt: 2025-11-07 20:22:38 -0500 (Fri, 07 Nov 2025) EndedAt: 2025-11-07 20:23:56 -0500 (Fri, 07 Nov 2025) EllapsedTime: 78.1 seconds RetCode: 0 Status: OK PackageFile: systemPipeR_2.17.0.tar.gz PackageFileSize: 6.5 MiB