Package: systemPipeR Version: 2.17.0 Maintainer: Thomas Girke MaintainerEmail: thomas.girke at ucr.edu git_url: https://git.bioconductor.org/packages/systemPipeR git_branch: devel git_last_commit: 378a792 git_last_commit_date: 2025-10-29 10:21:27 -0500 (Wed, 29 Oct 2025)