Package: switchBox Version: 1.47.0 Command: /home/biocbuild/bbs-3.23-bioc/R/bin/R CMD INSTALL switchBox StartedAt: 2025-11-07 15:04:03 -0500 (Fri, 07 Nov 2025) EndedAt: 2025-11-07 15:04:15 -0500 (Fri, 07 Nov 2025) EllapsedTime: 12.4 seconds RetCode: 0 Status: OK