Package: swfdr Version: 1.37.0 Command: /home/biocbuild/bbs-3.23-bioc/R/bin/R CMD INSTALL swfdr StartedAt: 2025-11-09 15:03:48 -0500 (Sun, 09 Nov 2025) EndedAt: 2025-11-09 15:04:12 -0500 (Sun, 09 Nov 2025) EllapsedTime: 24.1 seconds RetCode: 0 Status: OK