Package: swfdr Version: 1.37.0 Command: /home/biocbuild/bbs-3.23-bioc/R/bin/R CMD build --keep-empty-dirs --no-resave-data swfdr StartedAt: 2025-11-09 20:21:05 -0500 (Sun, 09 Nov 2025) EndedAt: 2025-11-09 20:21:52 -0500 (Sun, 09 Nov 2025) EllapsedTime: 47.0 seconds RetCode: 0 Status: OK PackageFile: swfdr_1.37.0.tar.gz PackageFileSize: 1.203 MiB