Package: subSeq Version: 1.41.0 Command: /home/biocbuild/bbs-3.23-bioc/R/bin/R CMD INSTALL subSeq StartedAt: 2025-11-26 15:14:03 -0500 (Wed, 26 Nov 2025) EndedAt: 2025-11-26 15:14:09 -0500 (Wed, 26 Nov 2025) EllapsedTime: 6.6 seconds RetCode: 0 Status: OK