Package: subSeq Version: 1.41.0 Command: /home/biocbuild/bbs-3.23-bioc/R/bin/R CMD build --keep-empty-dirs --no-resave-data subSeq StartedAt: 2025-11-26 20:21:44 -0500 (Wed, 26 Nov 2025) EndedAt: 2025-11-26 20:22:21 -0500 (Wed, 26 Nov 2025) EllapsedTime: 37.0 seconds RetCode: 0 Status: OK PackageFile: subSeq_1.41.0.tar.gz PackageFileSize: 2.917 MiB