Package: structToolbox Version: 1.23.0 Maintainer: Gavin Rhys Lloyd MaintainerEmail: g.r.lloyd at bham.ac.uk git_url: https://git.bioconductor.org/packages/structToolbox git_branch: devel git_last_commit: e5436a2 git_last_commit_date: 2025-10-29 10:56:35 -0500 (Wed, 29 Oct 2025)