Package: struct Version: 1.23.0 Command: /home/biocbuild/bbs-3.23-bioc/R/bin/R CMD INSTALL struct StartedAt: 2025-11-09 15:31:23 -0500 (Sun, 09 Nov 2025) EndedAt: 2025-11-09 15:31:48 -0500 (Sun, 09 Nov 2025) EllapsedTime: 25.0 seconds RetCode: 0 Status: OK