Package: struct Version: 1.23.0 Maintainer: Gavin Rhys Lloyd MaintainerEmail: g.r.lloyd at bham.ac.uk git_url: https://git.bioconductor.org/packages/struct git_branch: devel git_last_commit: 78bafdc git_last_commit_date: 2025-10-29 10:56:37 -0500 (Wed, 29 Oct 2025)