Package: spkTools Version: 1.67.0 Command: /home/biocbuild/bbs-3.23-bioc/R/bin/R CMD build --keep-empty-dirs --no-resave-data spkTools StartedAt: 2025-11-07 20:12:51 -0500 (Fri, 07 Nov 2025) EndedAt: 2025-11-07 20:13:02 -0500 (Fri, 07 Nov 2025) EllapsedTime: 11.0 seconds RetCode: 0 Status: OK PackageFile: spkTools_1.67.0.tar.gz PackageFileSize: 664.2 KiB