Package: spkTools Version: 1.67.0 Maintainer: Matthew N McCall MaintainerEmail: mccallm at gmail.com git_url: https://git.bioconductor.org/packages/spkTools git_branch: devel git_last_commit: ff503f5 git_last_commit_date: 2025-10-29 10:02:14 -0500 (Wed, 29 Oct 2025)