Package: spatialSimGP Version: 1.5.0 Command: /home/biocbuild/bbs-3.23-bioc/R/bin/R CMD build --keep-empty-dirs --no-resave-data spatialSimGP StartedAt: 2025-11-09 20:10:22 -0500 (Sun, 09 Nov 2025) EndedAt: 2025-11-09 20:11:25 -0500 (Sun, 09 Nov 2025) EllapsedTime: 63.0 seconds RetCode: 0 Status: OK PackageFile: spatialSimGP_1.5.0.tar.gz PackageFileSize: 695.9 KiB