Package: spatialSimGP Version: 1.5.0 Maintainer: Kinnary Shah MaintainerEmail: kinnaryshahh at gmail.com git_url: https://git.bioconductor.org/packages/spatialSimGP git_branch: devel git_last_commit: de108a0 git_last_commit_date: 2025-10-29 11:32:27 -0500 (Wed, 29 Oct 2025)