Package: spatialHeatmap Version: 2.17.0 Command: /home/biocbuild/bbs-3.23-bioc/R/bin/R CMD INSTALL spatialHeatmap StartedAt: 2025-11-07 15:34:34 -0500 (Fri, 07 Nov 2025) EndedAt: 2025-11-07 15:35:16 -0500 (Fri, 07 Nov 2025) EllapsedTime: 41.7 seconds RetCode: 0 Status: OK