Package: spatialHeatmap Version: 2.17.0 Command: /home/biocbuild/bbs-3.23-bioc/R/bin/R CMD build --keep-empty-dirs --no-resave-data spatialHeatmap StartedAt: 2025-11-07 20:10:45 -0500 (Fri, 07 Nov 2025) EndedAt: 2025-11-07 20:14:39 -0500 (Fri, 07 Nov 2025) EllapsedTime: 233.2 seconds RetCode: 1 Status: ERROR PackageFile: None PackageFileSize: NA