Package: spatialFDA Version: 1.3.1 Maintainer: Martin Emons MaintainerEmail: martin.emons at uzh.ch git_url: https://git.bioconductor.org/packages/spatialFDA git_branch: devel git_last_commit: bd8c241 git_last_commit_date: 2025-11-03 05:07:08 -0500 (Mon, 03 Nov 2025)