Package: smoothclust Version: 1.7.0 Command: /home/biocbuild/bbs-3.23-bioc/R/bin/R CMD INSTALL smoothclust StartedAt: 2025-11-07 15:25:42 -0500 (Fri, 07 Nov 2025) EndedAt: 2025-11-07 15:26:04 -0500 (Fri, 07 Nov 2025) EllapsedTime: 21.7 seconds RetCode: 0 Status: OK