Package: smoothclust Version: 1.7.0 Maintainer: Lukas M. Weber MaintainerEmail: lmweb012 at gmail.com git_url: https://git.bioconductor.org/packages/smoothclust git_branch: devel git_last_commit: 1246c80 git_last_commit_date: 2025-10-31 22:00:55 -0500 (Fri, 31 Oct 2025)