Package: CBN2Path