Package: sketchR Version: 1.7.0 Command: /home/biocbuild/bbs-3.23-bioc/R/bin/R CMD build --keep-empty-dirs --no-resave-data sketchR StartedAt: 2025-11-07 20:04:47 -0500 (Fri, 07 Nov 2025) EndedAt: 2025-11-07 20:08:05 -0500 (Fri, 07 Nov 2025) EllapsedTime: 198.2 seconds RetCode: 0 Status: OK PackageFile: sketchR_1.7.0.tar.gz PackageFileSize: 2.292 MiB