Package: simPIC Version: 1.7.0 Command: /home/biocbuild/bbs-3.23-bioc/R/bin/R CMD INSTALL simPIC StartedAt: 2025-11-09 15:24:45 -0500 (Sun, 09 Nov 2025) EndedAt: 2025-11-09 15:25:08 -0500 (Sun, 09 Nov 2025) EllapsedTime: 23.9 seconds RetCode: 0 Status: OK