Package: simPIC Version: 1.7.0 Command: /home/biocbuild/bbs-3.23-bioc/R/bin/R CMD build --keep-empty-dirs --no-resave-data simPIC StartedAt: 2025-11-07 20:02:25 -0500 (Fri, 07 Nov 2025) EndedAt: 2025-11-07 20:04:46 -0500 (Fri, 07 Nov 2025) EllapsedTime: 141.1 seconds RetCode: 0 Status: OK PackageFile: simPIC_1.7.0.tar.gz PackageFileSize: 5.204 MiB