Package: simPIC Version: 1.7.0 Maintainer: Sagrika Chugh MaintainerEmail: sagrika.chugh at gmail.com git_url: https://git.bioconductor.org/packages/simPIC git_branch: devel git_last_commit: 8f16458 git_last_commit_date: 2025-10-29 11:28:25 -0500 (Wed, 29 Oct 2025)