Package: sigFeature Version: 1.29.0 Command: /home/biocbuild/bbs-3.23-bioc/R/bin/R CMD INSTALL sigFeature StartedAt: 2025-11-07 15:21:40 -0500 (Fri, 07 Nov 2025) EndedAt: 2025-11-07 15:22:05 -0500 (Fri, 07 Nov 2025) EllapsedTime: 25.4 seconds RetCode: 0 Status: OK