Package: sigFeature Version: 1.29.0 Maintainer: Pijush Das Developer MaintainerEmail: topijush at gmail.com git_url: https://git.bioconductor.org/packages/sigFeature git_branch: devel git_last_commit: 0877319 git_last_commit_date: 2025-10-29 10:45:32 -0500 (Wed, 29 Oct 2025)