Package: shinybiocloader Version: 1.1.0 Command: /home/biocbuild/bbs-3.23-bioc/R/bin/R CMD INSTALL shinybiocloader StartedAt: 2025-11-09 15:07:46 -0500 (Sun, 09 Nov 2025) EndedAt: 2025-11-09 15:08:17 -0500 (Sun, 09 Nov 2025) EllapsedTime: 30.4 seconds RetCode: 0 Status: OK