Package: shinybiocloader Version: 1.1.0 Command: /home/biocbuild/bbs-3.23-bioc/R/bin/R CMD build --keep-empty-dirs --no-resave-data shinybiocloader StartedAt: 2025-11-09 19:59:29 -0500 (Sun, 09 Nov 2025) EndedAt: 2025-11-09 19:59:38 -0500 (Sun, 09 Nov 2025) EllapsedTime: 9.0 seconds RetCode: 0 Status: OK PackageFile: shinybiocloader_1.1.0.tar.gz PackageFileSize: 28.71 KiB