Package: shinyDSP Version: 1.3.0 Command: /home/biocbuild/bbs-3.23-bioc/R/bin/R CMD INSTALL shinyDSP StartedAt: 2025-11-07 15:54:57 -0500 (Fri, 07 Nov 2025) EndedAt: 2025-11-07 15:55:36 -0500 (Fri, 07 Nov 2025) EllapsedTime: 39.0 seconds RetCode: 0 Status: OK