Package: shinyDSP Version: 1.3.0 Command: /home/biocbuild/bbs-3.23-bioc/R/bin/R CMD build --keep-empty-dirs --no-resave-data shinyDSP StartedAt: 2025-11-07 20:00:11 -0500 (Fri, 07 Nov 2025) EndedAt: 2025-11-07 20:05:23 -0500 (Fri, 07 Nov 2025) EllapsedTime: 312.3 seconds RetCode: 0 Status: OK PackageFile: shinyDSP_1.3.0.tar.gz PackageFileSize: 2.679 MiB