Package: seqPattern Version: 1.43.0 Command: /home/biocbuild/bbs-3.23-bioc/R/bin/R CMD INSTALL seqPattern StartedAt: 2025-11-09 15:16:34 -0500 (Sun, 09 Nov 2025) EndedAt: 2025-11-09 15:16:46 -0500 (Sun, 09 Nov 2025) EllapsedTime: 11.4 seconds RetCode: 0 Status: OK