Package: seqPattern Version: 1.43.0 Command: /home/biocbuild/bbs-3.23-bioc/R/bin/R CMD build --keep-empty-dirs --no-resave-data seqPattern StartedAt: 2025-11-09 19:58:01 -0500 (Sun, 09 Nov 2025) EndedAt: 2025-11-09 19:58:31 -0500 (Sun, 09 Nov 2025) EllapsedTime: 30.0 seconds RetCode: 0 Status: OK PackageFile: seqPattern_1.43.0.tar.gz PackageFileSize: 5.368 MiB