Package: seqPattern Version: 1.43.0 Maintainer: Vanja Haberle MaintainerEmail: vanja.haberle at gmail.com git_url: https://git.bioconductor.org/packages/seqPattern git_branch: devel git_last_commit: 4b1e21f git_last_commit_date: 2025-10-29 10:23:35 -0500 (Wed, 29 Oct 2025)