Package: segmentSeq Version: 2.45.0 Maintainer: Samuel Granjeaud MaintainerEmail: samuel.granjeaud at inserm.fr git_url: https://git.bioconductor.org/packages/segmentSeq git_branch: devel git_last_commit: a33a34a git_last_commit_date: 2025-10-29 10:04:32 -0500 (Wed, 29 Oct 2025)