Package: scuttle Version: 1.21.0 Command: /home/biocbuild/bbs-3.23-bioc/R/bin/R CMD check --install=check:scuttle.install-out.txt --library=/home/biocbuild/bbs-3.23-bioc/R/site-library --timings scuttle_1.21.0.tar.gz StartedAt: 2025-11-08 03:47:58 -0500 (Sat, 08 Nov 2025) EndedAt: 2025-11-08 03:55:46 -0500 (Sat, 08 Nov 2025) EllapsedTime: 467.6 seconds RetCode: 0 Status: OK CheckDir: scuttle.Rcheck Warnings: 0