Package: scmeth Version: 1.31.0 Command: /home/biocbuild/bbs-3.23-bioc/R/bin/R CMD build --keep-empty-dirs --no-resave-data scmeth StartedAt: 2025-11-07 19:50:49 -0500 (Fri, 07 Nov 2025) EndedAt: 2025-11-07 19:52:17 -0500 (Fri, 07 Nov 2025) EllapsedTime: 88.1 seconds RetCode: 0 Status: OK PackageFile: scmeth_1.31.0.tar.gz PackageFileSize: 769.3 KiB