Package: scmeth Version: 1.31.0 Maintainer: Divy Kangeyan MaintainerEmail: divyswar01 at g.harvard.edu git_url: https://git.bioconductor.org/packages/scmeth git_branch: devel git_last_commit: 96dcd92 git_last_commit_date: 2025-10-29 10:43:21 -0500 (Wed, 29 Oct 2025)