Package: scifer Version: 1.13.0 Command: /home/biocbuild/bbs-3.23-bioc/R/bin/R CMD INSTALL scifer StartedAt: 2025-11-07 15:51:06 -0500 (Fri, 07 Nov 2025) EndedAt: 2025-11-07 15:51:22 -0500 (Fri, 07 Nov 2025) EllapsedTime: 16.0 seconds RetCode: 0 Status: OK