Package: schex Version: 1.25.0 Command: /home/biocbuild/bbs-3.23-bioc/R/bin/R CMD build --keep-empty-dirs --no-resave-data schex StartedAt: 2025-11-07 19:49:11 -0500 (Fri, 07 Nov 2025) EndedAt: 2025-11-07 19:50:42 -0500 (Fri, 07 Nov 2025) EllapsedTime: 91.1 seconds RetCode: 0 Status: OK PackageFile: schex_1.25.0.tar.gz PackageFileSize: 3.231 MiB