Package: scanMiRApp Version: 1.17.0 Command: /home/biocbuild/bbs-3.23-bioc/R/bin/R CMD INSTALL scanMiRApp StartedAt: 2025-11-07 15:51:18 -0500 (Fri, 07 Nov 2025) EndedAt: 2025-11-07 15:52:04 -0500 (Fri, 07 Nov 2025) EllapsedTime: 46.2 seconds RetCode: 0 Status: OK