Package: scanMiRApp Version: 1.17.0 Maintainer: Pierre-Luc Germain MaintainerEmail: pierre-luc.germain at hest.ethz.ch git_url: https://git.bioconductor.org/packages/scanMiRApp git_branch: devel git_last_commit: a38fae0 git_last_commit_date: 2025-10-29 11:11:11 -0500 (Wed, 29 Oct 2025)