Package: scTreeViz Version: 1.17.0 Maintainer: Jayaram Kancherla MaintainerEmail: jayaram.kancherla at gmail.com git_url: https://git.bioconductor.org/packages/scTreeViz git_branch: devel git_last_commit: 8bb53d8 git_last_commit_date: 2025-10-29 11:12:36 -0500 (Wed, 29 Oct 2025)