Package: scReClassify Version: 1.17.0 Command: /home/biocbuild/bbs-3.23-bioc/R/bin/R CMD build --keep-empty-dirs --no-resave-data scReClassify StartedAt: 2025-11-07 19:52:52 -0500 (Fri, 07 Nov 2025) EndedAt: 2025-11-07 19:55:27 -0500 (Fri, 07 Nov 2025) EllapsedTime: 154.1 seconds RetCode: 0 Status: OK PackageFile: scReClassify_1.17.0.tar.gz PackageFileSize: 2.466 MiB