Package: scReClassify Version: 1.17.0 Maintainer: Taiyun Kim MaintainerEmail: taiyun.kim91 at gmail.com git_url: https://git.bioconductor.org/packages/scReClassify git_branch: devel git_last_commit: e44cea1 git_last_commit_date: 2025-10-29 11:12:04 -0500 (Wed, 29 Oct 2025)