Package: scPipe Version: 2.11.0 Command: /home/biocbuild/bbs-3.23-bioc/R/bin/R CMD INSTALL scPipe StartedAt: 2025-11-21 15:34:08 -0500 (Fri, 21 Nov 2025) EndedAt: 2025-11-21 15:36:24 -0500 (Fri, 21 Nov 2025) EllapsedTime: 136.5 seconds RetCode: 0 Status: OK