Package: scPipe Version: 2.11.0 Command: /home/biocbuild/bbs-3.23-bioc/R/bin/R CMD build --keep-empty-dirs --no-resave-data scPipe StartedAt: 2025-11-21 19:56:06 -0500 (Fri, 21 Nov 2025) EndedAt: 2025-11-21 20:00:39 -0500 (Fri, 21 Nov 2025) EllapsedTime: 273.2 seconds RetCode: 0 Status: OK PackageFile: scPipe_2.11.0.tar.gz PackageFileSize: 12.64 MiB