Package: scPCA Version: 1.25.0 Command: /home/biocbuild/bbs-3.23-bioc/R/bin/R CMD build --keep-empty-dirs --no-resave-data scPCA StartedAt: 2025-11-07 19:52:14 -0500 (Fri, 07 Nov 2025) EndedAt: 2025-11-07 19:57:08 -0500 (Fri, 07 Nov 2025) EllapsedTime: 293.2 seconds RetCode: 0 Status: OK PackageFile: scPCA_1.25.0.tar.gz PackageFileSize: 1.858 MiB